Workbook

Sheet Данные
A1: id2 | B1: Л1 | C1: К1 | D1: К2 | E1: К3 | F1: ТК1 | G1: ТК2 | H1: ТК3 | I1: ТК4 | J1: ТК5
A2: 3 | B2: 1 | C2: 13 | D2: 31 | E2: 13 | F2: 7 | G2: 10 | H2: 2 | I2: 3 | J2: 8
A3: 9 | B3: 2 | C3: 8 | D3: 31 | E3: 12 | F3: 5 | G3: 9 | H3: 8 | I3: 1 | J3: 7
A4: 15 | B4: 2 | C4: 18 | D4: 23 | E4: 13 | F4: 3 | G4: 10 | H4: 6 | I4: 4 | J4: 7
A5: 19 | B5: 2 | C5: 12 | D5: 25 | E5: 14 | F5: 6 | G5: 9 | H5: 4 | I5: 2 | J5: 9
A6: 22 | B6: 1 | C6: 11 | D6: 30 | E6: 16 | F6: 3 | G6: 10 | H6: 3 | I6: 5 | J6: 9
A7: 47 | B7: 1 | C7: 16 | D7: 28 | E7: 21 | F7: 6 | G7: 9 | H7: 5 | I7: 3 | J7: 7
A8: 51 | B8: 1 | C8: 20 | D8: 35 | E8: 18 | F8: 7 | G8: 5 | H8: 3 | I8: 11 | J8: 4
A9: 56 | B9: 2 | C9: 17 | D9: 33 | E9: 21 | F9: 3 | G9: 9 | H9: 4 | I9: 6 | J9: 8
A10: 88 | B10: 2 | C10: 21 | D10: 25 | E10: 17 | F10: 6 | G10: 8 | H10: 7 | I10: 5 | J10: 4
A11: 107 | B11: 1 | C11: 28 | D11: 24 | E11: 16 | F11: 8 | G11: 8 | H11: 1 | I11: 6 | J11: 7
A12: 82 | B12: 2 | C12: 19 | D12: 20 | E12: 22 | F12: 7 | G12: 7 | H12: 2 | I12: 6 | J12: 8
A13: 50 | B13: 1 | C13: 14 | D13: 26 | E13: 22 | F13: 7 | G13: 7 | H13: 6 | I13: 2 | J13: 8
... A75: 63 | B75: 4 | C75: 10 | D75: 28 | E75: 10 | F75: 5 | G75: 8 | H75: 9 | I75: 2 | J75: 6

Sheet Спирман_графики
B2: Корреляционный анализ Спирмана
B3: Измените жёлтые поля: названия и подписи осей обновятся в диаграммах.
B4: Диаграммы можно копировать в Word. Шкалы настраиваются через «Формат оси».
B7: Название | D7: К1 в зависимости от Л1
B8: Ось X | D8: Л1 | H8: Ось Y | J8: К1
B9: ="ρ = "&IF(Расчёты_графиков!B13<0,"−","")&FIXED(ABS(Расчёты_графиков!B13),3,TRUE)&"; p = "&FIXED(Расчёты_графиков!B14,4,TRUE)&"; n = "&Расчёты_графиков!B12 -> ρ = −0,262; p = 0,0241; n = 74
B39: Название | D39: К2 в зависимости от Л1
B40: Ось X | D40: Л1 | H40: Ось Y | J40: К2
B41: ="ρ = "&IF(Расчёты_графиков!B243<0,"−","")&FIXED(ABS(Расчёты_графиков!B243),3,TRUE)&"; p = "&FIXED(Расчёты_графиков!B244,4,TRUE)&"; n = "&Расчёты_графиков!B242 -> ρ = 0,183; p = 0,1195; n = 74
B71: Название | D71: К3 в зависимости от Л1
B72: Ось X | D72: Л1 | H72: Ось Y | J72: К3
B73: ="ρ = "&IF(Расчёты_графиков!B473<0,"−","")&FIXED(ABS(Расчёты_графиков!B473),3,TRUE)&"; p = "&FIXED(Расчёты_графиков!B474,4,TRUE)&"; n = "&Расчёты_графиков!B472 -> ρ = −0,363; p = 0,0015; n = 74
B103: Название | D103: ТК1 в зависимости от Л1
B104: Ось X | D104: Л1 | H104: Ось Y | J104: ТК1
B105: ="ρ = "&IF(Расчёты_графиков!B703<0,"−","")&FIXED(ABS(Расчёты_графиков!B703),3,TRUE)&"; p = "&FIXED(Расчёты_графиков!B704,4,TRUE)&"; n = "&Расчёты_графиков!B702 -> ρ = −0,253; p = 0,0294; n = 74
B135: Название | D135: ТК2 в зависимости от Л1
B136: Ось X | D136: Л1 | H136: Ось Y | J136: ТК2
B137: ="ρ = "&IF(Расчёты_графиков!B933<0,"−","")&FIXED(ABS(Расчёты_графиков!B933),3,TRUE)&"; p = "&FIXED(Расчёты_графиков!B934,4,TRUE)&"; n = "&Расчёты_графиков!B932 -> ρ = 0,079; p = 0,5034; n = 74
B167: Название | D167: ТК3 в зависимости от Л1
B168: Ось X | D168: Л1 | H168: Ось Y | J168: ТК3
B169: ="ρ = "&IF(Расчёты_графиков!B1163<0,"−","")&FIXED(ABS(Расчёты_графиков!B1163),3,TRUE)&"; p = "&FIXED(Расчёты_графиков!B1164,4,TRUE)&"; n = "&Расчёты_графиков!B1162 -> ρ = 0,086; p = 0,4655; n = 74
B199: Название | D199: ТК4 в зависимости от Л1
B200: Ось X | D200: Л1 | H200: Ось Y | J200: ТК4
B201: ="ρ = "&IF(Расчёты_графиков!B1393<0,"−","")&FIXED(ABS(Расчёты_графиков!B1393),3,TRUE)&"; p = "&FIXED(Расчёты_графиков!B1394,4,TRUE)&"; n = "&Расчёты_графиков!B1392 -> ρ = −0,102; p = 0,3880; n = 74
B231: Название | D231: ТК5 в зависимости от Л1
B232: Ось X | D232: Л1 | H232: Ось Y | J232: ТК5
B233: ="ρ = "&IF(Расчёты_графиков!B1623<0,"−","")&FIXED(ABS(Расчёты_графиков!B1623),3,TRUE)&"; p = "&FIXED(Расчёты_графиков!B1624,4,TRUE)&"; n = "&Расчёты_графиков!B1622 -> ρ = 0,045; p = 0,7043; n = 74

Sheet Регрессия_графики
B2: Линейная регрессия
B3: Измените жёлтые поля: названия и подписи осей обновятся в диаграммах.
B4: Диаграммы можно копировать в Word. Шкалы настраиваются через «Формат оси».
B7: Название | D7: Линейная регрессия К1 по Л1
B8: Ось X | D8: Л1 | H8: Ось Y | J8: К1
B9: ="ŷ = "&FIXED(Расчёты_графиков!B15,3,TRUE)&IF(Расчёты_графиков!B16<0," − "," + ")&FIXED(ABS(Расчёты_графиков!B16),3,TRUE)&"x; R² = "&FIXED(Расчёты_графиков!B17,3,TRUE)&"; p = "&FIXED(Расчёты_графиков!B22,4,TRUE)&"; n = "&Расчёты_графиков!B12 -> ŷ = 18,628 − 1,274x; R² = 0,067; p = 0,0263; n = 74
B39: Название | D39: Линейная регрессия К2 по Л1
B40: Ось X | D40: Л1 | H40: Ось Y | J40: К2
B41: ="ŷ = "&FIXED(Расчёты_графиков!B245,3,TRUE)&IF(Расчёты_графиков!B246<0," − "," + ")&FIXED(ABS(Расчёты_графиков!B246),3,TRUE)&"x; R² = "&FIXED(Расчёты_графиков!B247,3,TRUE)&"; p = "&FIXED(Расчёты_графиков!B252,4,TRUE)&"; n = "&Расчёты_графиков!B242 -> ŷ = 26,514 + 0,439x; R² = 0,018; p = 0,2579; n = 74
B71: Название | D71: Линейная регрессия К3 по Л1
B72: Ось X | D72: Л1 | H72: Ось Y | J72: К3
B73: ="ŷ = "&FIXED(Расчёты_графиков!B475,3,TRUE)&IF(Расчёты_графиков!B476<0," − "," + ")&FIXED(ABS(Расчёты_графиков!B476),3,TRUE)&"x; R² = "&FIXED(Расчёты_графиков!B477,3,TRUE)&"; p = "&FIXED(Расчёты_графиков!B482,4,TRUE)&"; n = "&Расчёты_графиков!B472 -> ŷ = 19,757 − 1,276x; R² = 0,141; p = 0,0010; n = 74
B103: Название | D103: Линейная регрессия ТК1 по Л1
B104: Ось X | D104: Л1 | H104: Ось Y | J104: ТК1
B105: ="ŷ = "&FIXED(Расчёты_графиков!B705,3,TRUE)&IF(Расчёты_графиков!B706<0," − "," + ")&FIXED(ABS(Расчёты_графиков!B706),3,TRUE)&"x; R² = "&FIXED(Расчёты_графиков!B707,3,TRUE)&"; p = "&FIXED(Расчёты_графиков!B712,4,TRUE)&"; n = "&Расчёты_графиков!B702 -> ŷ = 6,678 − 0,346x; R² = 0,047; p = 0,0633; n = 74

Sheet Расчёты_графиков
A1: Расчёты и данные для диаграмм
A2: Квартили: QUARTILE.INC; усы: крайние значения в пределах 1,5 межквартильного размаха.
A3: Группировка соответствует исходному файлу. При смене кодов Л1 пересоберите групповые диапазоны.
A4: p Спирмана: двусторонняя t-аппроксимация; без поправки на множественные сравнения, как в исходнике.
A5: Доверительные границы регрессии относятся к среднему отклику, а не к отдельным наблюдениям.
A6: В графиках Спирмана точки сдвинуты по X только для читаемости; статистика использует исходный Л1.
A10: К1 | R10: Шаг разнесения точек регрессии | S10: 0.08
E11: 1 | F11: 2 | G11: 3 | H11: 4 | I11: 5 | K11: Ранг X | L11: Ранг Y | O11: X для точек | P11: Y наблюдения | S11: X для точек регрессии
A12: n | B12: =COUNT(Данные!$C$2:$C$75) -> 74 | E12: =Данные!C2 -> 13 | F12: =Данные!C3 -> 8 | G12: =Данные!C22 -> 9 | H12: =Данные!C21 -> 19 | I12: =Данные!C61 -> 28 | K12: =_xlfn.RANK.AVG(Данные!B2,Данные!$B$2:$B$75,1) -> 4 | L12: =_xlfn.RANK.AVG(Данные!C2,Данные!$C$2:$C$75,1) -> 25.5 | O12: =Данные!B2+(-0.105) -> 0.895 | P12: =Данные!C2 -> 13 | S12: =Данные!$B2+(COUNTIFS(Данные!$B$2:$B2,Данные!$B2,Данные!C$2:C2,Данные!C2)-(COUNTIFS(Данные!$B$2:$B$75,Данные!$B2,Данные!C$2:C$75,Данные!C2)+1)/2)*$S$10 -> 0.96
A13: ρ Спирмана | B13: =CORREL(K12:K85,L12:L85) -> -0.2619763 | E13: =Данные!C6 -> 11 | F13: =Данные!C4 -> 18 | G13: =Данные!C23 -> 8 | H13: =Данные!C31 -> 15 | I13: =Данные!C67 -> 7 | K13: =_xlfn.RANK.AVG(Данные!B3,Данные!$B$2:$B$75,1) -> 13.5 | L13: =_xlfn.RANK.AVG(Данные!C3,Данные!$C$2:$C$75,1) -> 9.5 | O13: =Данные!B3+(-0.105) -> 1.895 | P13: =Данные!C3 -> 8 | S13: =Данные!$B3+(COUNTIFS(Данные!$B$2:$B3,Данные!$B3,Данные!C$2:C3,Данные!C3)-(COUNTIFS(Данные!$B$2:$B$75,Данные!$B3,Данные!C$2:C$75,Данные!C3)+1)/2)*$S$10 -> 2
A14: p Спирмана | B14: =TDIST(ABS(B13*SQRT((B12-2)/(1-B13^2))),B12-2,2) -> 0.024147451 | E14: =Данные!C7 -> 16 | F14: =Данные!C5 -> 12 | G14: =Данные!C24 -> 15 | H14: =Данные!C36 -> 14 | I14: =Данные!C68 -> 11 | K14: =_xlfn.RANK.AVG(Данные!B4,Данные!$B$2:$B$75,1) -> 13.5 | L14: =_xlfn.RANK.AVG(Данные!C4,Данные!$C$2:$C$75,1) -> 57 | O14: =Данные!B4+(-0.105) -> 1.895 | P14: =Данные!C4 -> 18 | S14: =Данные!$B4+(COUNTIFS(Данные!$B$2:$B4,Данные!$B4,Данные!C$2:C4,Данные!C4)-(COUNTIFS(Данные!$B$2:$B$75,Данные!$B4,Данные!C$2:C$75,Данные!C4)+1)/2)*$S$10 -> 1.96
A15: Свободный член a | B15: =INTERCEPT(Данные!$C$2:$C$75,Данные!$B$2:$B$75) -> 18.627885 | E15: =Данные!C8 -> 20 | F15: =Данные!C9 -> 17 | G15: =Данные!C25 -> 12 | H15: =Данные!C39 -> 18 | I15: =Данные!C71 -> 13 | K15: =_xlfn.RANK.AVG(Данные!B5,Данные!$B$2:$B$75,1) -> 13.5 | L15: =_xlfn.RANK.AVG(Данные!C5,Данные!$C$2:$C$75,1) -> 21 | O15: =Данные!B5+(-0.105) -> 1.895 | P15: =Данные!C5 -> 12 | S15: =Данные!$B5+(COUNTIFS(Данные!$B$2:$B5,Данные!$B5,Данные!C$2:C5,Данные!C5)-(COUNTIFS(Данные!$B$2:$B$75,Данные!$B5,Данные!C$2:C$75,Данные!C5)+1)/2)*$S$10 -> 2
A16: Коэффициент b | B16: =SLOPE(Данные!$C$2:$C$75,Данные!$B$2:$B$75) -> -1.2735496 | E16: =Данные!C11 -> 28 | F16: =Данные!C10 -> 21 | G16: =Данные!C26 -> 18 | H16: =Данные!C41 -> 11 | I16: =Данные!C72 -> 14 | K16: =_xlfn.RANK.AVG(Данные!B6,Данные!$B$2:$B$75,1) -> 4 | L16: =_xlfn.RANK.AVG(Данные!C6,Данные!$C$2:$C$75,1) -> 17.5 | O16: =Данные!B6+(-0.105) -> 0.895 | P16: =Данные!C6 -> 11 | S16: =Данные!$B6+(COUNTIFS(Данные!$B$2:$B6,Данные!$B6,Данные!C$2:C6,Данные!C6)-(COUNTIFS(Данные!$B$2:$B$75,Данные!$B6,Данные!C$2:C$75,Данные!C6)+1)/2)*$S$10 -> 1
A17: R² | B17: =RSQ(Данные!$C$2:$C$75,Данные!$B$2:$B$75) -> 0.066695778 | E17: =Данные!C13 -> 14 | F17: =Данные!C12 -> 19 | G17: =Данные!C27 -> 16 | H17: =Данные!C43 -> 14 | I17: =Данные!C73 -> 11 | K17: =_xlfn.RANK.AVG(Данные!B7,Данные!$B$2:$B$75,1) -> 4 | L17: =_xlfn.RANK.AVG(Данные!C7,Данные!$C$2:$C$75,1) -> 50 | O17: =Данные!B7+(-0.105) -> 0.895 | P17: =Данные!C7 -> 16 | S17: =Данные!$B7+(COUNTIFS(Данные!$B$2:$B7,Данные!$B7,Данные!C$2:C7,Данные!C7)-(COUNTIFS(Данные!$B$2:$B$75,Данные!$B7,Данные!C$2:C$75,Данные!C7)+1)/2)*$S$10 -> 1
A18: Остаточная ошибка | B18: =STEYX(Данные!$C$2:$C$75,Данные!$B$2:$B$75) -> 5.2262834 | E18: =Данные!C14 -> 13 | F18: =Данные!C15 -> 16 | G18: =Данные!C28 -> 14 | H18: =Данные!C46 -> 15 | K18: =_xlfn.RANK.AVG(Данные!B8,Данные!$B$2:$B$75,1) -> 4 | L18: =_xlfn.RANK.AVG(Данные!C8,Данные!$C$2:$C$75,1) -> 65 | O18: =Данные!B8+(-0.105) -> 0.895 | P18: =Данные!C8 -> 20 | S18: =Данные!$B8+(COUNTIFS(Данные!$B$2:$B8,Данные!$B8,Данные!C$2:C8,Данные!C8)-(COUNTIFS(Данные!$B$2:$B$75,Данные!$B8,Данные!C$2:C$75,Данные!C8)+1)/2)*$S$10 -> 1
A19: SE коэффициента b | B19: =B18/SQRT(DEVSQ(Данные!$B$2:$B$75)) -> 0.56145126 | F19: =Данные!C16 -> 23 | G19: =Данные!C29 -> 14 | H19: =Данные!C48 -> 14 | K19: =_xlfn.RANK.AVG(Данные!B9,Данные!$B$2:$B$75,1) -> 13.5 | L19: =_xlfn.RANK.AVG(Данные!C9,Данные!$C$2:$C$75,1) -> 53.5 | O19: =Данные!B9+(-0.105) -> 1.895 | P19: =Данные!C9 -> 17 | S19: =Данные!$B9+(COUNTIFS(Данные!$B$2:$B9,Данные!$B9,Данные!C$2:C9,Данные!C9)-(COUNTIFS(Данные!$B$2:$B$75,Данные!$B9,Данные!C$2:C$75,Данные!C9)+1)/2)*$S$10 -> 2
A20: Степени свободы | B20: =B12-2 -> 72 | F20: =Данные!C17 -> 19 | G20: =Данные!C30 -> 5 | H20: =Данные!C53 -> 21 | K20: =_xlfn.RANK.AVG(Данные!B10,Данные!$B$2:$B$75,1) -> 13.5 | L20: =_xlfn.RANK.AVG(Данные!C10,Данные!$C$2:$C$75,1) -> 67.5 | O20: =Данные!B10+(-0.105) -> 1.895 | P20: =Данные!C10 -> 21 | S20: =Данные!$B10+(COUNTIFS(Данные!$B$2:$B10,Данные!$B10,Данные!C$2:C10,Данные!C10)-(COUNTIFS(Данные!$B$2:$B$75,Данные!$B10,Данные!C$2:C$75,Данные!C10)+1)/2)*$S$10 -> 2
A21: t коэффициента b | B21: =B16/B19 -> -2.2683173 | F21: =Данные!C18 -> 27 | G21: =Данные!C32 -> 14 | H21: =Данные!C55 -> 19 | K21: =_xlfn.RANK.AVG(Данные!B11,Данные!$B$2:$B$75,1) -> 4 | L21: =_xlfn.RANK.AVG(Данные!C11,Данные!$C$2:$C$75,1) -> 73 | O21: =Данные!B11+(-0.105) -> 0.895 | P21: =Данные!C11 -> 28 | S21: =Данные!$B11+(COUNTIFS(Данные!$B$2:$B11,Данные!$B11,Данные!C$2:C11,Данные!C11)-(COUNTIFS(Данные!$B$2:$B$75,Данные!$B11,Данные!C$2:C$75,Данные!C11)+1)/2)*$S$10 -> 1
A22: p регрессии | B22: =TDIST(ABS(B21),B20,2) -> 0.026309846 | F22: =Данные!C19 -> 18 | G22: =Данные!C33 -> 28 | H22: =Данные!C56 -> 20 | K22: =_xlfn.RANK.AVG(Данные!B12,Данные!$B$2:$B$75,1) -> 13.5 | L22: =_xlfn.RANK.AVG(Данные!C12,Данные!$C$2:$C$75,1) -> 61.5 | O22: =Данные!B12+(-0.105) -> 1.895 | P22: =Данные!C12 -> 19 | S22: =Данные!$B12+(COUNTIFS(Данные!$B$2:$B12,Данные!$B12,Данные!C$2:C12,Данные!C12)-(COUNTIFS(Данные!$B$2:$B$75,Данные!$B12,Данные!C$2:C$75,Данные!C12)+1)/2)*$S$10 -> 1.96
A23: t для 95% ДИ | B23: =Q190 -> 1.9934636 | F23: =Данные!C20 -> 25 | G23: =Данные!C34 -> 17 | H23: =Данные!C57 -> 7 | K23: =_xlfn.RANK.AVG(Данные!B13,Данные!$B$2:$B$75,1) -> 4 | L23: =_xlfn.RANK.AVG(Данные!C13,Данные!$C$2:$C$75,1) -> 35 | O23: =Данные!B13+(-0.105) -> 0.895 | P23: =Данные!C13 -> 14 | S23: =Данные!$B13+(COUNTIFS(Данные!$B$2:$B13,Данные!$B13,Данные!C$2:C13,Данные!C13)-(COUNTIFS(Данные!$B$2:$B$75,Данные!$B13,Данные!C$2:C$75,Данные!C13)+1)/2)*$S$10 -> 1
G24: =Данные!C35 -> 8 | H24: =Данные!C58 -> 15 | K24: =_xlfn.RANK.AVG(Данные!B14,Данные!$B$2:$B$75,1) -> 4 | L24: =_xlfn.RANK.AVG(Данные!C14,Данные!$C$2:$C$75,1) -> 25.5 | O24: =Данные!B14+(-0.07) -> 0.93 | P24: =Данные!C14 -> 13 | S24: =Данные!$B14+(COUNTIFS(Данные!$B$2:$B14,Данные!$B14,Данные!C$2:C14,Данные!C14)-(COUNTIFS(Данные!$B$2:$B$75,Данные!$B14,Данные!C$2:C$75,Данные!C14)+1)/2)*$S$10 -> 1.04
G25: =Данные!C37 -> 13 | H25: =Данные!C59 -> 14 | K25: =_xlfn.RANK.AVG(Данные!B15,Данные!$B$2:$B$75,1) -> 13.5 | L25: =_xlfn.RANK.AVG(Данные!C15,Данные!$C$2:$C$75,1) -> 50 | O25: =Данные!B15+(-0.105) -> 1.895 | P25: =Данные!C15 -> 16 | S25: =Данные!$B15+(COUNTIFS(Данные!$B$2:$B15,Данные!$B15,Данные!C$2:C15,Данные!C15)-(COUNTIFS(Данные!$B$2:$B$75,Данные!$B15,Данные!C$2:C$75,Данные!C15)+1)/2)*$S$10 -> 2
G26: =Данные!C38 -> 20 | H26: =Данные!C60 -> 15 | K26: =_xlfn.RANK.AVG(Данные!B16,Данные!$B$2:$B$75,1) -> 13.5 | L26: =_xlfn.RANK.AVG(Данные!C16,Данные!$C$2:$C$75,1) -> 69 | O26: =Данные!B16+(-0.105) -> 1.895 | P26: =Данные!C16 -> 23 | S26: =Данные!$B16+(COUNTIFS(Данные!$B$2:$B16,Данные!$B16,Данные!C$2:C16,Данные!C16)-(COUNTIFS(Данные!$B$2:$B$75,Данные!$B16,Данные!C$2:C$75,Данные!C16)+1)/2)*$S$10 -> 2
G27: =Данные!C40 -> 16 | H27: =Данные!C62 -> 10 | K27: =_xlfn.RANK.AVG(Данные!B17,Данные!$B$2:$B$75,1) -> 13.5 | L27: =_xlfn.RANK.AVG(Данные!C17,Данные!$C$2:$C$75,1) -> 61.5 | O27: =Данные!B17+(-0.07) -> 1.93 | P27: =Данные!C17 -> 19 | S27: =Данные!$B17+(COUNTIFS(Данные!$B$2:$B17,Данные!$B17,Данные!C$2:C17,Данные!C17)-(COUNTIFS(Данные!$B$2:$B$75,Данные!$B17,Данные!C$2:C$75,Данные!C17)+1)/2)*$S$10 -> 2.04
G28: =Данные!C42 -> 16 | H28: =Данные!C63 -> 13 | K28: =_xlfn.RANK.AVG(Данные!B18,Данные!$B$2:$B$75,1) -> 13.5 | L28: =_xlfn.RANK.AVG(Данные!C18,Данные!$C$2:$C$75,1) -> 71 | O28: =Данные!B18+(-0.105) -> 1.895 | P28: =Данные!C18 -> 27 | S28: =Данные!$B18+(COUNTIFS(Данные!$B$2:$B18,Данные!$B18,Данные!C$2:C18,Данные!C18)-(COUNTIFS(Данные!$B$2:$B$75,Данные!$B18,Данные!C$2:C$75,Данные!C18)+1)/2)*$S$10 -> 2
G29: =Данные!C44 -> 7 | H29: =Данные!C64 -> 4 | K29: =_xlfn.RANK.AVG(Данные!B19,Данные!$B$2:$B$75,1) -> 13.5 | L29: =_xlfn.RANK.AVG(Данные!C19,Данные!$C$2:$C$75,1) -> 57 | O29: =Данные!B19+(-0.07) -> 1.93 | P29: =Данные!C19 -> 18 | S29: =Данные!$B19+(COUNTIFS(Данные!$B$2:$B19,Данные!$B19,Данные!C$2:C19,Данные!C19)-(COUNTIFS(Данные!$B$2:$B$75,Данные!$B19,Данные!C$2:C$75,Данные!C19)+1)/2)*$S$10 -> 2.04
G30: =Данные!C45 -> 14 | H30: =Данные!C65 -> 15 | K30: =_xlfn.RANK.AVG(Данные!B20,Данные!$B$2:$B$75,1) -> 13.5 | L30: =_xlfn.RANK.AVG(Данные!C20,Данные!$C$2:$C$75,1) -> 70 | O30: =Данные!B20+(-0.105) -> 1.895 | P30: =Данные!C20 -> 25 | S30: =Данные!$B20+(COUNTIFS(Данные!$B$2:$B20,Данные!$B20,Данные!C$2:C20,Данные!C20)-(COUNTIFS(Данные!$B$2:$B$75,Данные!$B20,Данные!C$2:C$75,Данные!C20)+1)/2)*$S$10 -> 2
G31: =Данные!C47 -> 14 | H31: =Данные!C66 -> 4 | K31: =_xlfn.RANK.AVG(Данные!B21,Данные!$B$2:$B$75,1) -> 56.5 | L31: =_xlfn.RANK.AVG(Данные!C21,Данные!$C$2:$C$75,1) -> 61.5 | O31: =Данные!B21+(-0.105) -> 3.895 | P31: =Данные!C21 -> 19 | S31: =Данные!$B21+(COUNTIFS(Данные!$B$2:$B21,Данные!$B21,Данные!C$2:C21,Данные!C21)-(COUNTIFS(Данные!$B$2:$B$75,Данные!$B21,Данные!C$2:C$75,Данные!C21)+1)/2)*$S$10 -> 3.96
G32: =Данные!C49 -> 7 | H32: =Данные!C69 -> 14 | K32: =_xlfn.RANK.AVG(Данные!B22,Данные!$B$2:$B$75,1) -> 32 | L32: =_xlfn.RANK.AVG(Данные!C22,Данные!$C$2:$C$75,1) -> 12 | O32: =Данные!B22+(-0.105) -> 2.895 | P32: =Данные!C22 -> 9 | S32: =Данные!$B22+(COUNTIFS(Данные!$B$2:$B22,Данные!$B22,Данные!C$2:C22,Данные!C22)-(COUNTIFS(Данные!$B$2:$B$75,Данные!$B22,Данные!C$2:C$75,Данные!C22)+1)/2)*$S$10 -> 3
G33: =Данные!C50 -> 14 | H33: =Данные!C70 -> 8 | K33: =_xlfn.RANK.AVG(Данные!B23,Данные!$B$2:$B$75,1) -> 32 | L33: =_xlfn.RANK.AVG(Данные!C23,Данные!$C$2:$C$75,1) -> 9.5 | O33: =Данные!B23+(-0.105) -> 2.895 | P33: =Данные!C23 -> 8 | S33: =Данные!$B23+(COUNTIFS(Данные!$B$2:$B23,Данные!$B23,Данные!C$2:C23,Данные!C23)-(COUNTIFS(Данные!$B$2:$B$75,Данные!$B23,Данные!C$2:C$75,Данные!C23)+1)/2)*$S$10 -> 2.96
G34: =Данные!C51 -> 10 | H34: =Данные!C74 -> 12 | K34: =_xlfn.RANK.AVG(Данные!B24,Данные!$B$2:$B$75,1) -> 32 | L34: =_xlfn.RANK.AVG(Данные!C24,Данные!$C$2:$C$75,1) -> 44.5 | O34: =Данные!B24+(-0.105) -> 2.895 | P34: =Данные!C24 -> 15 | S34: =Данные!$B24+(COUNTIFS(Данные!$B$2:$B24,Данные!$B24,Данные!C$2:C24,Данные!C24)-(COUNTIFS(Данные!$B$2:$B$75,Данные!$B24,Данные!C$2:C$75,Данные!C24)+1)/2)*$S$10 -> 3
G35: =Данные!C52 -> 13 | H35: =Данные!C75 -> 10 | K35: =_xlfn.RANK.AVG(Данные!B25,Данные!$B$2:$B$75,1) -> 32 | L35: =_xlfn.RANK.AVG(Данные!C25,Данные!$C$2:$C$75,1) -> 21 | O35: =Данные!B25+(-0.105) -> 2.895 | P35: =Данные!C25 -> 12 | S35: =Данные!$B25+(COUNTIFS(Данные!$B$2:$B25,Данные!$B25,Данные!C$2:C25,Данные!C25)-(COUNTIFS(Данные!$B$2:$B$75,Данные!$B25,Данные!C$2:C$75,Данные!C25)+1)/2)*$S$10 -> 3
G36: =Данные!C54 -> 18 | K36: =_xlfn.RANK.AVG(Данные!B26,Данные!$B$2:$B$75,1) -> 32 | L36: =_xlfn.RANK.AVG(Данные!C26,Данные!$C$2:$C$75,1) -> 57 | O36: =Данные!B26+(-0.105) -> 2.895 | P36: =Данные!C26 -> 18 | S36: =Данные!$B26+(COUNTIFS(Данные!$B$2:$B26,Данные!$B26,Данные!C$2:C26,Данные!C26)-(COUNTIFS(Данные!$B$2:$B$75,Данные!$B26,Данные!C$2:C$75,Данные!C26)+1)/2)*$S$10 -> 2.96
K37: =_xlfn.RANK.AVG(Данные!B27,Данные!$B$2:$B$75,1) -> 32 | L37: =_xlfn.RANK.AVG(Данные!C27,Данные!$C$2:$C$75,1) -> 50 | O37: =Данные!B27+(-0.105) -> 2.895 | P37: =Данные!C27 -> 16 | S37: =Данные!$B27+(COUNTIFS(Данные!$B$2:$B27,Данные!$B27,Данные!C$2:C27,Данные!C27)-(COUNTIFS(Данные!$B$2:$B$75,Данные!$B27,Данные!C$2:C$75,Данные!C27)+1)/2)*$S$10 -> 2.92
K38: =_xlfn.RANK.AVG(Данные!B28,Данные!$B$2:$B$75,1) -> 32 | L38: =_xlfn.RANK.AVG(Данные!C28,Данные!$C$2:$C$75,1) -> 35 | O38: =Данные!B28+(-0.105) -> 2.895 | P38: =Данные!C28 -> 14 | S38: =Данные!$B28+(COUNTIFS(Данные!$B$2:$B28,Данные!$B28,Данные!C$2:C28,Данные!C28)-(COUNTIFS(Данные!$B$2:$B$75,Данные!$B28,Данные!C$2:C$75,Данные!C28)+1)/2)*$S$10 -> 2.8
K39: =_xlfn.RANK.AVG(Данные!B29,Данные!$B$2:$B$75,1) -> 32 | L39: =_xlfn.RANK.AVG(Данные!C29,Данные!$C$2:$C$75,1) -> 35 | O39: =Данные!B29+(-0.07) -> 2.93 | P39: =Данные!C29 -> 14 | S39: =Данные!$B29+(COUNTIFS(Данные!$B$2:$B29,Данные!$B29,Данные!C$2:C29,Данные!C29)-(COUNTIFS(Данные!$B$2:$B$75,Данные!$B29,Данные!C$2:C$75,Данные!C29)+1)/2)*$S$10 -> 2.88
K40: =_xlfn.RANK.AVG(Данные!B30,Данные!$B$2:$B$75,1) -> 32 | L40: =_xlfn.RANK.AVG(Данные!C30,Данные!$C$2:$C$75,1) -> 3 | O40: =Данные!B30+(-0.105) -> 2.895 | P40: =Данные!C30 -> 5 | S40: =Данные!$B30+(COUNTIFS(Данные!$B$2:$B30,Данные!$B30,Данные!C$2:C30,Данные!C30)-(COUNTIFS(Данные!$B$2:$B$75,Данные!$B30,Данные!C$2:C$75,Данные!C30)+1)/2)*$S$10 -> 3
K41: =_xlfn.RANK.AVG(Данные!B31,Данные!$B$2:$B$75,1) -> 56.5 | L41: =_xlfn.RANK.AVG(Данные!C31,Данные!$C$2:$C$75,1) -> 44.5 | O41: =Данные!B31+(-0.105) -> 3.895 | P41: =Данные!C31 -> 15 | S41: =Данные!$B31+(COUNTIFS(Данные!$B$2:$B31,Данные!$B31,Данные!C$2:C31,Данные!C31)-(COUNTIFS(Данные!$B$2:$B$75,Данные!$B31,Данные!C$2:C$75,Данные!C31)+1)/2)*$S$10 -> 3.84
K42: =_xlfn.RANK.AVG(Данные!B32,Данные!$B$2:$B$75,1) -> 32 | L42: =_xlfn.RANK.AVG(Данные!C32,Данные!$C$2:$C$75,1) -> 35 | O42: =Данные!B32+(-0.035) -> 2.965 | P42: =Данные!C32 -> 14 | S42: =Данные!$B32+(COUNTIFS(Данные!$B$2:$B32,Данные!$B32,Данные!C$2:C32,Данные!C32)-(COUNTIFS(Данные!$B$2:$B$75,Данные!$B32,Данные!C$2:C$75,Данные!C32)+1)/2)*$S$10 -> 2.96
K43: =_xlfn.RANK.AVG(Данные!B33,Данные!$B$2:$B$75,1) -> 32 | L43: =_xlfn.RANK.AVG(Данные!C33,Данные!$C$2:$C$75,1) -> 73 | O43: =Данные!B33+(-0.105) -> 2.895 | P43: =Данные!C33 -> 28 | S43: =Данные!$B33+(COUNTIFS(Данные!$B$2:$B33,Данные!$B33,Данные!C$2:C33,Данные!C33)-(COUNTIFS(Данные!$B$2:$B$75,Данные!$B33,Данные!C$2:C$75,Данные!C33)+1)/2)*$S$10 -> 3
K44: =_xlfn.RANK.AVG(Данные!B34,Данные!$B$2:$B$75,1) -> 32 | L44: =_xlfn.RANK.AVG(Данные!C34,Данные!$C$2:$C$75,1) -> 53.5 | O44: =Данные!B34+(-0.105) -> 2.895 | P44: =Данные!C34 -> 17 | S44: =Данные!$B34+(COUNTIFS(Данные!$B$2:$B34,Данные!$B34,Данные!C$2:C34,Данные!C34)-(COUNTIFS(Данные!$B$2:$B$75,Данные!$B34,Данные!C$2:C$75,Данные!C34)+1)/2)*$S$10 -> 3
K45: =_xlfn.RANK.AVG(Данные!B35,Данные!$B$2:$B$75,1) -> 32 | L45: =_xlfn.RANK.AVG(Данные!C35,Данные!$C$2:$C$75,1) -> 9.5 | O45: =Данные!B35+(-0.07) -> 2.93 | P45: =Данные!C35 -> 8 | S45: =Данные!$B35+(COUNTIFS(Данные!$B$2:$B35,Данные!$B35,Данные!C$2:C35,Данные!C35)-(COUNTIFS(Данные!$B$2:$B$75,Данные!$B35,Данные!C$2:C$75,Данные!C35)+1)/2)*$S$10 -> 3.04
K46: =_xlfn.RANK.AVG(Данные!B36,Данные!$B$2:$B$75,1) -> 56.5 | L46: =_xlfn.RANK.AVG(Данные!C36,Данные!$C$2:$C$75,1) -> 35 | O46: =Данные!B36+(-0.105) -> 3.895 | P46: =Данные!C36 -> 14 | S46: =Данные!$B36+(COUNTIFS(Данные!$B$2:$B36,Данные!$B36,Данные!C$2:C36,Данные!C36)-(COUNTIFS(Данные!$B$2:$B$75,Данные!$B36,Данные!C$2:C$75,Данные!C36)+1)/2)*$S$10 -> 3.84
K47: =_xlfn.RANK.AVG(Данные!B37,Данные!$B$2:$B$75,1) -> 32 | L47: =_xlfn.RANK.AVG(Данные!C37,Данные!$C$2:$C$75,1) -> 25.5 | O47: =Данные!B37+(-0.105) -> 2.895 | P47: =Данные!C37 -> 13 | S47: =Данные!$B37+(COUNTIFS(Данные!$B$2:$B37,Данные!$B37,Данные!C$2:C37,Данные!C37)-(COUNTIFS(Данные!$B$2:$B$75,Данные!$B37,Данные!C$2:C$75,Данные!C37)+1)/2)*$S$10 -> 2.96
K48: =_xlfn.RANK.AVG(Данные!B38,Данные!$B$2:$B$75,1) -> 32 | L48: =_xlfn.RANK.AVG(Данные!C38,Данные!$C$2:$C$75,1) -> 65 | O48: =Данные!B38+(-0.105) -> 2.895 | P48: =Данные!C38 -> 20 | S48: =Данные!$B38+(COUNTIFS(Данные!$B$2:$B38,Данные!$B38,Данные!C$2:C38,Данные!C38)-(COUNTIFS(Данные!$B$2:$B$75,Данные!$B38,Данные!C$2:C$75,Данные!C38)+1)/2)*$S$10 -> 3
K49: =_xlfn.RANK.AVG(Данные!B39,Данные!$B$2:$B$75,1) -> 56.5 | L49: =_xlfn.RANK.AVG(Данные!C39,Данные!$C$2:$C$75,1) -> 57 | O49: =Данные!B39+(-0.105) -> 3.895 | P49: =Данные!C39 -> 18 | S49: =Данные!$B39+(COUNTIFS(Данные!$B$2:$B39,Данные!$B39,Данные!C$2:C39,Данные!C39)-(COUNTIFS(Данные!$B$2:$B$75,Данные!$B39,Данные!C$2:C$75,Данные!C39)+1)/2)*$S$10 -> 4
K50: =_xlfn.RANK.AVG(Данные!B40,Данные!$B$2:$B$75,1) -> 32 | L50: =_xlfn.RANK.AVG(Данные!C40,Данные!$C$2:$C$75,1) -> 50 | O50: =Данные!B40+(-0.07) -> 2.93 | P50: =Данные!C40 -> 16 | S50: =Данные!$B40+(COUNTIFS(Данные!$B$2:$B40,Данные!$B40,Данные!C$2:C40,Данные!C40)-(COUNTIFS(Данные!$B$2:$B$75,Данные!$B40,Данные!C$2:C$75,Данные!C40)+1)/2)*$S$10 -> 3
K51: =_xlfn.RANK.AVG(Данные!B41,Данные!$B$2:$B$75,1) -> 56.5 | L51: =_xlfn.RANK.AVG(Данные!C41,Данные!$C$2:$C$75,1) -> 17.5 | O51: =Данные!B41+(-0.105) -> 3.895 | P51: =Данные!C41 -> 11 | S51: =Данные!$B41+(COUNTIFS(Данные!$B$2:$B41,Данные!$B41,Данные!C$2:C41,Данные!C41)-(COUNTIFS(Данные!$B$2:$B$75,Данные!$B41,Данные!C$2:C$75,Данные!C41)+1)/2)*$S$10 -> 4
K52: =_xlfn.RANK.AVG(Данные!B42,Данные!$B$2:$B$75,1) -> 32 | L52: =_xlfn.RANK.AVG(Данные!C42,Данные!$C$2:$C$75,1) -> 50 | O52: =Данные!B42+(-0.035) -> 2.965 | P52: =Данные!C42 -> 16 | S52: =Данные!$B42+(COUNTIFS(Данные!$B$2:$B42,Данные!$B42,Данные!C$2:C42,Данные!C42)-(COUNTIFS(Данные!$B$2:$B$75,Данные!$B42,Данные!C$2:C$75,Данные!C42)+1)/2)*$S$10 -> 3.08
K53: =_xlfn.RANK.AVG(Данные!B43,Данные!$B$2:$B$75,1) -> 56.5 | L53: =_xlfn.RANK.AVG(Данные!C43,Данные!$C$2:$C$75,1) -> 35 | O53: =Данные!B43+(-0.07) -> 3.93 | P53: =Данные!C43 -> 14 | S53: =Данные!$B43+(COUNTIFS(Данные!$B$2:$B43,Данные!$B43,Данные!C$2:C43,Данные!C43)-(COUNTIFS(Данные!$B$2:$B$75,Данные!$B43,Данные!C$2:C$75,Данные!C43)+1)/2)*$S$10 -> 3.92
K54: =_xlfn.RANK.AVG(Данные!B44,Данные!$B$2:$B$75,1) -> 32 | L54: =_xlfn.RANK.AVG(Данные!C44,Данные!$C$2:$C$75,1) -> 5.5 | O54: =Данные!B44+(-0.105) -> 2.895 | P54: =Данные!C44 -> 7 | S54: =Данные!$B44+(COUNTIFS(Данные!$B$2:$B44,Данные!$B44,Данные!C$2:C44,Данные!C44)-(COUNTIFS(Данные!$B$2:$B$75,Данные!$B44,Данные!C$2:C$75,Данные!C44)+1)/2)*$S$10 -> 2.96
K55: =_xlfn.RANK.AVG(Данные!B45,Данные!$B$2:$B$75,1) -> 32 | L55: =_xlfn.RANK.AVG(Данные!C45,Данные!$C$2:$C$75,1) -> 35 | O55: =Данные!B45+(0) -> 3 | P55: =Данные!C45 -> 14 | S55: =Данные!$B45+(COUNTIFS(Данные!$B$2:$B45,Данные!$B45,Данные!C$2:C45,Данные!C45)-(COUNTIFS(Данные!$B$2:$B$75,Данные!$B45,Данные!C$2:C$75,Данные!C45)+1)/2)*$S$10 -> 3.04
K56: =_xlfn.RANK.AVG(Данные!B46,Данные!$B$2:$B$75,1) -> 56.5 | L56: =_xlfn.RANK.AVG(Данные!C46,Данные!$C$2:$C$75,1) -> 44.5 | O56: =Данные!B46+(-0.07) -> 3.93 | P56: =Данные!C46 -> 15 | S56: =Данные!$B46+(COUNTIFS(Данные!$B$2:$B46,Данные!$B46,Данные!C$2:C46,Данные!C46)-(COUNTIFS(Данные!$B$2:$B$75,Данные!$B46,Данные!C$2:C$75,Данные!C46)+1)/2)*$S$10 -> 3.92
K57: =_xlfn.RANK.AVG(Данные!B47,Данные!$B$2:$B$75,1) -> 32 | L57: =_xlfn.RANK.AVG(Данные!C47,Данные!$C$2:$C$75,1) -> 35 | O57: =Данные!B47+(0.035) -> 3.035 | P57: =Данные!C47 -> 14 | S57: =Данные!$B47+(COUNTIFS(Данные!$B$2:$B47,Данные!$B47,Данные!C$2:C47,Данные!C47)-(COUNTIFS(Данные!$B$2:$B$75,Данные!$B47,Данные!C$2:C$75,Данные!C47)+1)/2)*$S$10 -> 3.12
K58: =_xlfn.RANK.AVG(Данные!B48,Данные!$B$2:$B$75,1) -> 56.5 | L58: =_xlfn.RANK.AVG(Данные!C48,Данные!$C$2:$C$75,1) -> 35 | O58: =Данные!B48+(-0.035) -> 3.965 | P58: =Данные!C48 -> 14 | S58: =Данные!$B48+(COUNTIFS(Данные!$B$2:$B48,Данные!$B48,Данные!C$2:C48,Данные!C48)-(COUNTIFS(Данные!$B$2:$B$75,Данные!$B48,Данные!C$2:C$75,Данные!C48)+1)/2)*$S$10 -> 4
K59: =_xlfn.RANK.AVG(Данные!B49,Данные!$B$2:$B$75,1) -> 32 | L59: =_xlfn.RANK.AVG(Данные!C49,Данные!$C$2:$C$75,1) -> 5.5 | O59: =Данные!B49+(-0.07) -> 2.93 | P59: =Данные!C49 -> 7 | S59: =Данные!$B49+(COUNTIFS(Данные!$B$2:$B49,Данные!$B49,Данные!C$2:C49,Данные!C49)-(COUNTIFS(Данные!$B$2:$B$75,Данные!$B49,Данные!C$2:C$75,Данные!C49)+1)/2)*$S$10 -> 3.04
K60: =_xlfn.RANK.AVG(Данные!B50,Данные!$B$2:$B$75,1) -> 32 | L60: =_xlfn.RANK.AVG(Данные!C50,Данные!$C$2:$C$75,1) -> 35 | O60: =Данные!B50+(0.07) -> 3.07 | P60: =Данные!C50 -> 14 | S60: =Данные!$B50+(COUNTIFS(Данные!$B$2:$B50,Данные!$B50,Данные!C$2:C50,Данные!C50)-(COUNTIFS(Данные!$B$2:$B$75,Данные!$B50,Данные!C$2:C$75,Данные!C50)+1)/2)*$S$10 -> 3.2
K61: =_xlfn.RANK.AVG(Данные!B51,Данные!$B$2:$B$75,1) -> 32 | L61: =_xlfn.RANK.AVG(Данные!C51,Данные!$C$2:$C$75,1) -> 14 | O61: =Данные!B51+(-0.105) -> 2.895 | P61: =Данные!C51 -> 10 | S61: =Данные!$B51+(COUNTIFS(Данные!$B$2:$B51,Данные!$B51,Данные!C$2:C51,Данные!C51)-(COUNTIFS(Данные!$B$2:$B$75,Данные!$B51,Данные!C$2:C$75,Данные!C51)+1)/2)*$S$10 -> 3
K62: =_xlfn.RANK.AVG(Данные!B52,Данные!$B$2:$B$75,1) -> 32 | L62: =_xlfn.RANK.AVG(Данные!C52,Данные!$C$2:$C$75,1) -> 25.5 | O62: =Данные!B52+(-0.07) -> 2.93 | P62: =Данные!C52 -> 13 | S62: =Данные!$B52+(COUNTIFS(Данные!$B$2:$B52,Данные!$B52,Данные!C$2:C52,Данные!C52)-(COUNTIFS(Данные!$B$2:$B$75,Данные!$B52,Данные!C$2:C$75,Данные!C52)+1)/2)*$S$10 -> 3.04
K63: =_xlfn.RANK.AVG(Данные!B53,Данные!$B$2:$B$75,1) -> 56.5 | L63: =_xlfn.RANK.AVG(Данные!C53,Данные!$C$2:$C$75,1) -> 67.5 | O63: =Данные!B53+(-0.105) -> 3.895 | P63: =Данные!C53 -> 21 | S63: =Данные!$B53+(COUNTIFS(Данные!$B$2:$B53,Данные!$B53,Данные!C$2:C53,Данные!C53)-(COUNTIFS(Данные!$B$2:$B$75,Данные!$B53,Данные!C$2:C$75,Данные!C53)+1)/2)*$S$10 -> 4
K64: =_xlfn.RANK.AVG(Данные!B54,Данные!$B$2:$B$75,1) -> 32 | L64: =_xlfn.RANK.AVG(Данные!C54,Данные!$C$2:$C$75,1) -> 57 | O64: =Данные!B54+(-0.07) -> 2.93 | P64: =Данные!C54 -> 18 | S64: =Данные!$B54+(COUNTIFS(Данные!$B$2:$B54,Данные!$B54,Данные!C$2:C54,Данные!C54)-(COUNTIFS(Данные!$B$2:$B$75,Данные!$B54,Данные!C$2:C$75,Данные!C54)+1)/2)*$S$10 -> 3.04
K65: =_xlfn.RANK.AVG(Данные!B55,Данные!$B$2:$B$75,1) -> 56.5 | L65: =_xlfn.RANK.AVG(Данные!C55,Данные!$C$2:$C$75,1) -> 61.5 | O65: =Данные!B55+(-0.07) -> 3.93 | P65: =Данные!C55 -> 19 | S65: =Данные!$B55+(COUNTIFS(Данные!$B$2:$B55,Данные!$B55,Данные!C$2:C55,Данные!C55)-(COUNTIFS(Данные!$B$2:$B$75,Данные!$B55,Данные!C$2:C$75,Данные!C55)+1)/2)*$S$10 -> 4.04
K66: =_xlfn.RANK.AVG(Данные!B56,Данные!$B$2:$B$75,1) -> 56.5 | L66: =_xlfn.RANK.AVG(Данные!C56,Данные!$C$2:$C$75,1) -> 65 | O66: =Данные!B56+(-0.105) -> 3.895 | P66: =Данные!C56 -> 20 | S66: =Данные!$B56+(COUNTIFS(Данные!$B$2:$B56,Данные!$B56,Данные!C$2:C56,Данные!C56)-(COUNTIFS(Данные!$B$2:$B$75,Данные!$B56,Данные!C$2:C$75,Данные!C56)+1)/2)*$S$10 -> 4
K67: =_xlfn.RANK.AVG(Данные!B57,Данные!$B$2:$B$75,1) -> 56.5 | L67: =_xlfn.RANK.AVG(Данные!C57,Данные!$C$2:$C$75,1) -> 5.5 | O67: =Данные!B57+(-0.105) -> 3.895 | P67: =Данные!C57 -> 7 | S67: =Данные!$B57+(COUNTIFS(Данные!$B$2:$B57,Данные!$B57,Данные!C$2:C57,Данные!C57)-(COUNTIFS(Данные!$B$2:$B$75,Данные!$B57,Данные!C$2:C$75,Данные!C57)+1)/2)*$S$10 -> 4
K68: =_xlfn.RANK.AVG(Данные!B58,Данные!$B$2:$B$75,1) -> 56.5 | L68: =_xlfn.RANK.AVG(Данные!C58,Данные!$C$2:$C$75,1) -> 44.5 | O68: =Данные!B58+(-0.035) -> 3.965 | P68: =Данные!C58 -> 15 | S68: =Данные!$B58+(COUNTIFS(Данные!$B$2:$B58,Данные!$B58,Данные!C$2:C58,Данные!C58)-(COUNTIFS(Данные!$B$2:$B$75,Данные!$B58,Данные!C$2:C$75,Данные!C58)+1)/2)*$S$10 -> 4
K69: =_xlfn.RANK.AVG(Данные!B59,Данные!$B$2:$B$75,1) -> 56.5 | L69: =_xlfn.RANK.AVG(Данные!C59,Данные!$C$2:$C$75,1) -> 35 | O69: =Данные!B59+(0) -> 4 | P69: =Данные!C59 -> 14 | S69: =Данные!$B59+(COUNTIFS(Данные!$B$2:$B59,Данные!$B59,Данные!C$2:C59,Данные!C59)-(COUNTIFS(Данные!$B$2:$B$75,Данные!$B59,Данные!C$2:C$75,Данные!C59)+1)/2)*$S$10 -> 4.08
K70: =_xlfn.RANK.AVG(Данные!B60,Данные!$B$2:$B$75,1) -> 56.5 | L70: =_xlfn.RANK.AVG(Данные!C60,Данные!$C$2:$C$75,1) -> 44.5 | O70: =Данные!B60+(0) -> 4 | P70: =Данные!C60 -> 15 | S70: =Данные!$B60+(COUNTIFS(Данные!$B$2:$B60,Данные!$B60,Данные!C$2:C60,Данные!C60)-(COUNTIFS(Данные!$B$2:$B$75,Данные!$B60,Данные!C$2:C$75,Данные!C60)+1)/2)*$S$10 -> 4.08
K71: =_xlfn.RANK.AVG(Данные!B61,Данные!$B$2:$B$75,1) -> 71.5 | L71: =_xlfn.RANK.AVG(Данные!C61,Данные!$C$2:$C$75,1) -> 73 | O71: =Данные!B61+(-0.105) -> 4.895 | P71: =Данные!C61 -> 28 | S71: =Данные!$B61+(COUNTIFS(Данные!$B$2:$B61,Данные!$B61,Данные!C$2:C61,Данные!C61)-(COUNTIFS(Данные!$B$2:$B$75,Данные!$B61,Данные!C$2:C$75,Данные!C61)+1)/2)*$S$10 -> 5
K72: =_xlfn.RANK.AVG(Данные!B62,Данные!$B$2:$B$75,1) -> 56.5 | L72: =_xlfn.RANK.AVG(Данные!C62,Данные!$C$2:$C$75,1) -> 14 | O72: =Данные!B62+(-0.105) -> 3.895 | P72: =Данные!C62 -> 10 | S72: =Данные!$B62+(COUNTIFS(Данные!$B$2:$B62,Данные!$B62,Данные!C$2:C62,Данные!C62)-(COUNTIFS(Данные!$B$2:$B$75,Данные!$B62,Данные!C$2:C$75,Данные!C62)+1)/2)*$S$10 -> 3.96
K73: =_xlfn.RANK.AVG(Данные!B63,Данные!$B$2:$B$75,1) -> 56.5 | L73: =_xlfn.RANK.AVG(Данные!C63,Данные!$C$2:$C$75,1) -> 25.5 | O73: =Данные!B63+(-0.105) -> 3.895 | P73: =Данные!C63 -> 13 | S73: =Данные!$B63+(COUNTIFS(Данные!$B$2:$B63,Данные!$B63,Данные!C$2:C63,Данные!C63)-(COUNTIFS(Данные!$B$2:$B$75,Данные!$B63,Данные!C$2:C$75,Данные!C63)+1)/2)*$S$10 -> 4
K74: =_xlfn.RANK.AVG(Данные!B64,Данные!$B$2:$B$75,1) -> 56.5 | L74: =_xlfn.RANK.AVG(Данные!C64,Данные!$C$2:$C$75,1) -> 1.5 | O74: =Данные!B64+(-0.105) -> 3.895 | P74: =Данные!C64 -> 4 | S74: =Данные!$B64+(COUNTIFS(Данные!$B$2:$B64,Данные!$B64,Данные!C$2:C64,Данные!C64)-(COUNTIFS(Данные!$B$2:$B$75,Данные!$B64,Данные!C$2:C$75,Данные!C64)+1)/2)*$S$10 -> 3.96
K75: =_xlfn.RANK.AVG(Данные!B65,Данные!$B$2:$B$75,1) -> 56.5 | L75: =_xlfn.RANK.AVG(Данные!C65,Данные!$C$2:$C$75,1) -> 44.5 | O75: =Данные!B65+(0.035) -> 4.035 | P75: =Данные!C65 -> 15 | S75: =Данные!$B65+(COUNTIFS(Данные!$B$2:$B65,Данные!$B65,Данные!C$2:C65,Данные!C65)-(COUNTIFS(Данные!$B$2:$B$75,Данные!$B65,Данные!C$2:C$75,Данные!C65)+1)/2)*$S$10 -> 4.16
K76: =_xlfn.RANK.AVG(Данные!B66,Данные!$B$2:$B$75,1) -> 56.5 | L76: =_xlfn.RANK.AVG(Данные!C66,Данные!$C$2:$C$75,1) -> 1.5 | O76: =Данные!B66+(-0.07) -> 3.93 | P76: =Данные!C66 -> 4 | S76: =Данные!$B66+(COUNTIFS(Данные!$B$2:$B66,Данные!$B66,Данные!C$2:C66,Данные!C66)-(COUNTIFS(Данные!$B$2:$B$75,Данные!$B66,Данные!C$2:C$75,Данные!C66)+1)/2)*$S$10 -> 4.04
K77: =_xlfn.RANK.AVG(Данные!B67,Данные!$B$2:$B$75,1) -> 71.5 | L77: =_xlfn.RANK.AVG(Данные!C67,Данные!$C$2:$C$75,1) -> 5.5 | O77: =Данные!B67+(-0.105) -> 4.895 | P77: =Данные!C67 -> 7 | S77: =Данные!$B67+(COUNTIFS(Данные!$B$2:$B67,Данные!$B67,Данные!C$2:C67,Данные!C67)-(COUNTIFS(Данные!$B$2:$B$75,Данные!$B67,Данные!C$2:C$75,Данные!C67)+1)/2)*$S$10 -> 5
K78: =_xlfn.RANK.AVG(Данные!B68,Данные!$B$2:$B$75,1) -> 71.5 | L78: =_xlfn.RANK.AVG(Данные!C68,Данные!$C$2:$C$75,1) -> 17.5 | O78: =Данные!B68+(-0.105) -> 4.895 | P78: =Данные!C68 -> 11 | S78: =Данные!$B68+(COUNTIFS(Данные!$B$2:$B68,Данные!$B68,Данные!C$2:C68,Данные!C68)-(COUNTIFS(Данные!$B$2:$B$75,Данные!$B68,Данные!C$2:C$75,Данные!C68)+1)/2)*$S$10 -> 4.96
K79: =_xlfn.RANK.AVG(Данные!B69,Данные!$B$2:$B$75,1) -> 56.5 | L79: =_xlfn.RANK.AVG(Данные!C69,Данные!$C$2:$C$75,1) -> 35 | O79: =Данные!B69+(0.035) -> 4.035 | P79: =Данные!C69 -> 14 | S79: =Данные!$B69+(COUNTIFS(Данные!$B$2:$B69,Данные!$B69,Данные!C$2:C69,Данные!C69)-(COUNTIFS(Данные!$B$2:$B$75,Данные!$B69,Данные!C$2:C$75,Данные!C69)+1)/2)*$S$10 -> 4.16
K80: =_xlfn.RANK.AVG(Данные!B70,Данные!$B$2:$B$75,1) -> 56.5 | L80: =_xlfn.RANK.AVG(Данные!C70,Данные!$C$2:$C$75,1) -> 9.5 | O80: =Данные!B70+(-0.105) -> 3.895 | P80: =Данные!C70 -> 8 | S80: =Данные!$B70+(COUNTIFS(Данные!$B$2:$B70,Данные!$B70,Данные!C$2:C70,Данные!C70)-(COUNTIFS(Данные!$B$2:$B$75,Данные!$B70,Данные!C$2:C$75,Данные!C70)+1)/2)*$S$10 -> 4
K81: =_xlfn.RANK.AVG(Данные!B71,Данные!$B$2:$B$75,1) -> 71.5 | L81: =_xlfn.RANK.AVG(Данные!C71,Данные!$C$2:$C$75,1) -> 25.5 | O81: =Данные!B71+(-0.105) -> 4.895 | P81: =Данные!C71 -> 13 | S81: =Данные!$B71+(COUNTIFS(Данные!$B$2:$B71,Данные!$B71,Данные!C$2:C71,Данные!C71)-(COUNTIFS(Данные!$B$2:$B$75,Данные!$B71,Данные!C$2:C$75,Данные!C71)+1)/2)*$S$10 -> 5
K82: =_xlfn.RANK.AVG(Данные!B72,Данные!$B$2:$B$75,1) -> 71.5 | L82: =_xlfn.RANK.AVG(Данные!C72,Данные!$C$2:$C$75,1) -> 35 | O82: =Данные!B72+(-0.105) -> 4.895 | P82: =Данные!C72 -> 14 | S82: =Данные!$B72+(COUNTIFS(Данные!$B$2:$B72,Данные!$B72,Данные!C$2:C72,Данные!C72)-(COUNTIFS(Данные!$B$2:$B$75,Данные!$B72,Данные!C$2:C$75,Данные!C72)+1)/2)*$S$10 -> 5
K83: =_xlfn.RANK.AVG(Данные!B73,Данные!$B$2:$B$75,1) -> 71.5 | L83: =_xlfn.RANK.AVG(Данные!C73,Данные!$C$2:$C$75,1) -> 17.5 | O83: =Данные!B73+(-0.07) -> 4.93 | P83: =Данные!C73 -> 11 | S83: =Данные!$B73+(COUNTIFS(Данные!$B$2:$B73,Данные!$B73,Данные!C$2:C73,Данные!C73)-(COUNTIFS(Данные!$B$2:$B$75,Данные!$B73,Данные!C$2:C$75,Данные!C73)+1)/2)*$S$10 -> 5.04
K84: =_xlfn.RANK.AVG(Данные!B74,Данные!$B$2:$B$75,1) -> 56.5 | L84: =_xlfn.RANK.AVG(Данные!C74,Данные!$C$2:$C$75,1) -> 21 | O84: =Данные!B74+(-0.105) -> 3.895 | P84: =Данные!C74 -> 12 | S84: =Данные!$B74+(COUNTIFS(Данные!$B$2:$B74,Данные!$B74,Данные!C$2:C74,Данные!C74)-(COUNTIFS(Данные!$B$2:$B$75,Данные!$B74,Данные!C$2:C$75,Данные!C74)+1)/2)*$S$10 -> 4
K85: =_xlfn.RANK.AVG(Данные!B75,Данные!$B$2:$B$75,1) -> 56.5 | L85: =_xlfn.RANK.AVG(Данные!C75,Данные!$C$2:$C$75,1) -> 14 | O85: =Данные!B75+(-0.07) -> 3.93 | P85: =Данные!C75 -> 10 | S85: =Данные!$B75+(COUNTIFS(Данные!$B$2:$B75,Данные!$B75,Данные!C$2:C75,Данные!C75)-(COUNTIFS(Данные!$B$2:$B$75,Данные!$B75,Данные!C$2:C$75,Данные!C75)+1)/2)*$S$10 -> 4.04
D90: Групповые показатели | E90: 1 | F90: 2 | G90: 3 | H90: 4 | I90: 5 | K90: X линии | L90: Прогноз | M90: Нижняя 95% ДИ | N90: Верхняя 95% ДИ | S90: X для ДИ | T90: Границы 95% ДИ
D91: n группы | E91: =COUNT(E12:E18) -> 7 | F91: =COUNT(F12:F23) -> 12 | G91: =COUNT(G12:G36) -> 25 | H91: =COUNT(H12:H35) -> 24 | I91: =COUNT(I12:I17) -> 6 | K91: =1+0*4/59 -> 1 | L91: =$B$15+$B$16*K91 -> 17.354336 | M91: =L91-$B$23*$B$18*SQRT(1/$B$12+(K91-AVERAGE(Данные!$B$2:$B$75))^2/DEVSQ(Данные!$B$2:$B$75)) -> 14.675245 | N91: =L91+$B$23*$B$18*SQRT(1/$B$12+(K91-AVERAGE(Данные!$B$2:$B$75))^2/DEVSQ(Данные!$B$2:$B$75)) -> 20.033426 | S91: =K91 -> 1 | T91: =M91 -> 14.675245
D92: Среднее | E92: =AVERAGE(E12:E18) -> 16.428571 | F92: =AVERAGE(F12:F23) -> 18.583333 | G92: =AVERAGE(G12:G36) -> 13.6 | H92: =AVERAGE(H12:H35) -> 13.375 | I92: =AVERAGE(I12:I17) -> 14 | K92: =1+1*4/59 -> 1.0677966 | L92: =$B$15+$B$16*K92 -> 17.267993 | M92: =L92-$B$23*$B$18*SQRT(1/$B$12+(K92-AVERAGE(Данные!$B$2:$B$75))^2/DEVSQ(Данные!$B$2:$B$75)) -> 14.656361 | N92: =L92+$B$23*$B$18*SQRT(1/$B$12+(K92-AVERAGE(Данные!$B$2:$B$75))^2/DEVSQ(Данные!$B$2:$B$75)) -> 19.879625 | S92: =K92 -> 1.0677966 | T92: =M92 -> 14.656361
D93: Q1 | E93: =_xlfn.QUARTILE.INC(E12:E18,1) -> 13 | F93: =_xlfn.QUARTILE.INC(F12:F23,1) -> 16.75 | G93: =_xlfn.QUARTILE.INC(G12:G36,1) -> 10 | H93: =_xlfn.QUARTILE.INC(H12:H35,1) -> 10.75 | I93: =_xlfn.QUARTILE.INC(I12:I17,1) -> 11 | K93: =1+2*4/59 -> 1.1355932 | L93: =$B$15+$B$16*K93 -> 17.181651 | M93: =L93-$B$23*$B$18*SQRT(1/$B$12+(K93-AVERAGE(Данные!$B$2:$B$75))^2/DEVSQ(Данные!$B$2:$B$75)) -> 14.637003 | N93: =L93+$B$23*$B$18*SQRT(1/$B$12+(K93-AVERAGE(Данные!$B$2:$B$75))^2/DEVSQ(Данные!$B$2:$B$75)) -> 19.726298 | S93: =K93 -> 1.1355932 | T93: =M93 -> 14.637003
D94: Медиана | E94: =MEDIAN(E12:E18) -> 14 | F94: =MEDIAN(F12:F23) -> 18.5 | G94: =MEDIAN(G12:G36) -> 14 | H94: =MEDIAN(H12:H35) -> 14 | I94: =MEDIAN(I12:I17) -> 12 | K94: =1+3*4/59 -> 1.2033898 | L94: =$B$15+$B$16*K94 -> 17.095309 | M94: =L94-$B$23*$B$18*SQRT(1/$B$12+(K94-AVERAGE(Данные!$B$2:$B$75))^2/DEVSQ(Данные!$B$2:$B$75)) -> 14.617133 | N94: =L94+$B$23*$B$18*SQRT(1/$B$12+(K94-AVERAGE(Данные!$B$2:$B$75))^2/DEVSQ(Данные!$B$2:$B$75)) -> 19.573485 | S94: =K94 -> 1.2033898 | T94: =M94 -> 14.617133
D95: Q3 | E95: =_xlfn.QUARTILE.INC(E12:E18,3) -> 18 | F95: =_xlfn.QUARTILE.INC(F12:F23,3) -> 21.5 | G95: =_xlfn.QUARTILE.INC(G12:G36,3) -> 16 | H95: =_xlfn.QUARTILE.INC(H12:H35,3) -> 15 | I95: =_xlfn.QUARTILE.INC(I12:I17,3) -> 13.75 | K95: =1+4*4/59 -> 1.2711864 | L95: =$B$15+$B$16*K95 -> 17.008966 | M95: =L95-$B$23*$B$18*SQRT(1/$B$12+(K95-AVERAGE(Данные!$B$2:$B$75))^2/DEVSQ(Данные!$B$2:$B$75)) -> 14.596706 | N95: =L95+$B$23*$B$18*SQRT(1/$B$12+(K95-AVERAGE(Данные!$B$2:$B$75))^2/DEVSQ(Данные!$B$2:$B$75)) -> 19.421226 | S95: =K95 -> 1.2711864 | T95: =M95 -> 14.596706
D96: IQR | E96: =E95-E93 -> 5 | F96: =F95-F93 -> 4.75 | G96: =G95-G93 -> 6 | H96: =H95-H93 -> 4.25 | I96: =I95-I93 -> 2.75 | K96: =1+5*4/59 -> 1.3389831 | L96: =$B$15+$B$16*K96 -> 16.922624 | M96: =L96-$B$23*$B$18*SQRT(1/$B$12+(K96-AVERAGE(Данные!$B$2:$B$75))^2/DEVSQ(Данные!$B$2:$B$75)) -> 14.575678 | N96: =L96+$B$23*$B$18*SQRT(1/$B$12+(K96-AVERAGE(Данные!$B$2:$B$75))^2/DEVSQ(Данные!$B$2:$B$75)) -> 19.26957 | S96: =K96 -> 1.3389831 | T96: =M96 -> 14.575678
D97: Нижняя граница | E97: =E93-1.5*E96 -> 5.5 | F97: =F93-1.5*F96 -> 9.625 | G97: =G93-1.5*G96 -> 1 | H97: =H93-1.5*H96 -> 4.375 | I97: =I93-1.5*I96 -> 6.875 | K97: =1+6*4/59 -> 1.4067797 | L97: =$B$15+$B$16*K97 -> 16.836282 | M97: =L97-$B$23*$B$18*SQRT(1/$B$12+(K97-AVERAGE(Данные!$B$2:$B$75))^2/DEVSQ(Данные!$B$2:$B$75)) -> 14.553996 | N97: =L97+$B$23*$B$18*SQRT(1/$B$12+(K97-AVERAGE(Данные!$B$2:$B$75))^2/DEVSQ(Данные!$B$2:$B$75)) -> 19.118567 | S97: =K97 -> 1.4067797 | T97: =M97 -> 14.553996
D98: Верхняя граница | E98: =E95+1.5*E96 -> 25.5 | F98: =F95+1.5*F96 -> 28.625 | G98: =G95+1.5*G96 -> 25 | H98: =H95+1.5*H96 -> 21.375 | I98: =I95+1.5*I96 -> 17.875 | K98: =1+7*4/59 -> 1.4745763 | L98: =$B$15+$B$16*K98 -> 16.749939 | M98: =L98-$B$23*$B$18*SQRT(1/$B$12+(K98-AVERAGE(Данные!$B$2:$B$75))^2/DEVSQ(Данные!$B$2:$B$75)) -> 14.531603 | N98: =L98+$B$23*$B$18*SQRT(1/$B$12+(K98-AVERAGE(Данные!$B$2:$B$75))^2/DEVSQ(Данные!$B$2:$B$75)) -> 18.968275 | S98: =K98 -> 1.4745763 | T98: =M98 -> 14.531603
D99: Нижний ус | E99: =_xlfn.MINIFS(E12:E18,E12:E18,">="&E97) -> 11 | F99: =_xlfn.MINIFS(F12:F23,F12:F23,">="&F97) -> 12 | G99: =_xlfn.MINIFS(G12:G36,G12:G36,">="&G97) -> 5 | H99: =_xlfn.MINIFS(H12:H35,H12:H35,">="&H97) -> 7 | I99: =_xlfn.MINIFS(I12:I17,I12:I17,">="&I97) -> 7 | K99: =1+8*4/59 -> 1.5423729 | L99: =$B$15+$B$16*K99 -> 16.663597 | M99: =L99-$B$23*$B$18*SQRT(1/$B$12+(K99-AVERAGE(Данные!$B$2:$B$75))^2/DEVSQ(Данные!$B$2:$B$75)) -> 14.508436 | N99: =L99+$B$23*$B$18*SQRT(1/$B$12+(K99-AVERAGE(Данные!$B$2:$B$75))^2/DEVSQ(Данные!$B$2:$B$75)) -> 18.818757 | S99: =K99 -> 1.5423729 | T99: =M99 -> 14.508436
D100: Верхний ус | E100: =_xlfn.MAXIFS(E12:E18,E12:E18,"<="&E98) -> 20 | F100: =_xlfn.MAXIFS(F12:F23,F12:F23,"<="&F98) -> 27 | G100: =_xlfn.MAXIFS(G12:G36,G12:G36,"<="&G98) -> 20 | H100: =_xlfn.MAXIFS(H12:H35,H12:H35,"<="&H98) -> 21 | I100: =_xlfn.MAXIFS(I12:I17,I12:I17,"<="&I98) -> 14 | K100: =1+9*4/59 -> 1.6101695 | L100: =$B$15+$B$16*K100 -> 16.577255 | M100: =L100-$B$23*$B$18*SQRT(1/$B$12+(K100-AVERAGE(Данные!$B$2:$B$75))^2/DEVSQ(Данные!$B$2:$B$75)) -> 14.484425 | N100: =L100+$B$23*$B$18*SQRT(1/$B$12+(K100-AVERAGE(Данные!$B$2:$B$75))^2/DEVSQ(Данные!$B$2:$B$75)) -> 18.670084 | S100: =K100 -> 1.6101695 | T100: =M100 -> 14.484425
K101: =1+10*4/59 -> 1.6779661 | L101: =$B$15+$B$16*K101 -> 16.490912 | M101: =L101-$B$23*$B$18*SQRT(1/$B$12+(K101-AVERAGE(Данные!$B$2:$B$75))^2/DEVSQ(Данные!$B$2:$B$75)) -> 14.459491 | N101: =L101+$B$23*$B$18*SQRT(1/$B$12+(K101-AVERAGE(Данные!$B$2:$B$75))^2/DEVSQ(Данные!$B$2:$B$75)) -> 18.522333 | S101: =K101 -> 1.6779661 | T101: =M101 -> 14.459491
K102: =1+11*4/59 -> 1.7457627 | L102: =$B$15+$B$16*K102 -> 16.40457 | M102: =L102-$B$23*$B$18*SQRT(1/$B$12+(K102-AVERAGE(Данные!$B$2:$B$75))^2/DEVSQ(Данные!$B$2:$B$75)) -> 14.43355 | N102: =L102+$B$23*$B$18*SQRT(1/$B$12+(K102-AVERAGE(Данные!$B$2:$B$75))^2/DEVSQ(Данные!$B$2:$B$75)) -> 18.37559 | S102: =K102 -> 1.7457627 | T102: =M102 -> 14.43355
K103: =1+12*4/59 -> 1.8135593 | L103: =$B$15+$B$16*K103 -> 16.318227 | M103: =L103-$B$23*$B$18*SQRT(1/$B$12+(K103-AVERAGE(Данные!$B$2:$B$75))^2/DEVSQ(Данные!$B$2:$B$75)) -> 14.406504 | N103: =L103+$B$23*$B$18*SQRT(1/$B$12+(K103-AVERAGE(Данные!$B$2:$B$75))^2/DEVSQ(Данные!$B$2:$B$75)) -> 18.229951 | S103: =K103 -> 1.8135593 | T103: =M103 -> 14.406504
K104: =1+13*4/59 -> 1.8813559 | L104: =$B$15+$B$16*K104 -> 16.231885 | M104: =L104-$B$23*$B$18*SQRT(1/$B$12+(K104-AVERAGE(Данные!$B$2:$B$75))^2/DEVSQ(Данные!$B$2:$B$75)) -> 14.378249 | N104: =L104+$B$23*$B$18*SQRT(1/$B$12+(K104-AVERAGE(Данные!$B$2:$B$75))^2/DEVSQ(Данные!$B$2:$B$75)) -> 18.085522 | S104: =K104 -> 1.8813559 | T104: =M104 -> 14.378249
B105: =Спирман_графики!D7&CHAR(10)&Спирман_графики!B9 -> К1 в зависимости от Л1 ρ = −0,262; p = 0,0241; n = 74 | K105: =1+14*4/59 -> 1.9491525 | L105: =$B$15+$B$16*K105 -> 16.145543 | M105: =L105-$B$23*$B$18*SQRT(1/$B$12+(K105-AVERAGE(Данные!$B$2:$B$75))^2/DEVSQ(Данные!$B$2:$B$75)) -> 14.348666 | N105: =L105+$B$23*$B$18*SQRT(1/$B$12+(K105-AVERAGE(Данные!$B$2:$B$75))^2/DEVSQ(Данные!$B$2:$B$75)) -> 17.942419 | S105: =K105 -> 1.9491525 | T105: =M105 -> 14.348666
B106: =Регрессия_графики!D7&CHAR(10)&Регрессия_графики!B9 -> Линейная регрессия К1 по Л1 ŷ = 18,628 − 1,274x; R² = 0,067; p = 0,0263; n = 74 | K106: =1+15*4/59 -> 2.0169492 | L106: =$B$15+$B$16*K106 -> 16.0592 | M106: =L106-$B$23*$B$18*SQRT(1/$B$12+(K106-AVERAGE(Данные!$B$2:$B$75))^2/DEVSQ(Данные!$B$2:$B$75)) -> 14.317627 | N106: =L106+$B$23*$B$18*SQRT(1/$B$12+(K106-AVERAGE(Данные!$B$2:$B$75))^2/DEVSQ(Данные!$B$2:$B$75)) -> 17.800774 | S106: =K106 -> 2.0169492 | T106: =M106 -> 14.317627
K107: =1+16*4/59 -> 2.0847458 | L107: =$B$15+$B$16*K107 -> 15.972858 | M107: =L107-$B$23*$B$18*SQRT(1/$B$12+(K107-AVERAGE(Данные!$B$2:$B$75))^2/DEVSQ(Данные!$B$2:$B$75)) -> 14.284988 | N107: =L107+$B$23*$B$18*SQRT(1/$B$12+(K107-AVERAGE(Данные!$B$2:$B$75))^2/DEVSQ(Данные!$B$2:$B$75)) -> 17.660728 | S107: =K107 -> 2.0847458 | T107: =M107 -> 14.284988
...
